BEGIN:VCALENDAR
VERSION:2.0
PRODID:-//Información del Ayuntamiento de Uncastillo - ECPv6.15.20//NONSGML v1.0//EN
CALSCALE:GREGORIAN
METHOD:PUBLISH
X-ORIGINAL-URL:https://uncastillo.es
X-WR-CALDESC:Eventos para Información del Ayuntamiento de Uncastillo
REFRESH-INTERVAL;VALUE=DURATION:PT1H
X-Robots-Tag:noindex
X-PUBLISHED-TTL:PT1H
BEGIN:VTIMEZONE
TZID:UTC
BEGIN:STANDARD
TZOFFSETFROM:+0000
TZOFFSETTO:+0000
TZNAME:UTC
DTSTART:20250101T000000
END:STANDARD
END:VTIMEZONE
BEGIN:VEVENT
DTSTART;TZID=UTC:20260423T190000
DTEND;TZID=UTC:20260423T220000
DTSTAMP:20260423T172233
CREATED:20260420T111230Z
LAST-MODIFIED:20260420T111230Z
UID:6075-1776970800-1776981600@uncastillo.es
SUMMARY:Concierto Exposición
DESCRIPTION:
URL:https://uncastillo.es/evento/concierto-exposicion/
LOCATION:Salón Noble del Ayuntamiento\, Plaza de la Villa\, 22\, Uncastillo\, Zaragoza\, 50678
CATEGORIES:Música
ORGANIZER;CN="Ayuntamiento de Uncastillo":MAILTO:ayuntamiento@uncastillo.es
END:VEVENT
BEGIN:VEVENT
DTSTART;TZID=UTC:20260425T160000
DTEND;TZID=UTC:20260425T180000
DTSTAMP:20260423T172233
CREATED:20260420T111424Z
LAST-MODIFIED:20260420T111424Z
UID:6081-1777132800-1777140000@uncastillo.es
SUMMARY:Andada Chiqui a San Cristóbal
DESCRIPTION:
URL:https://uncastillo.es/evento/andada-chiqui-a-san-cristobal/
CATEGORIES:Deporte
END:VEVENT
END:VCALENDAR